BEGIN:VCALENDAR
VERSION:2.0
PRODID:-//Thomasgemeinde Grünwald - Thomaskirche - ECPv4.6.22//NONSGML v1.0//EN
CALSCALE:GREGORIAN
METHOD:PUBLISH
X-WR-CALNAME:Thomasgemeinde Grünwald - Thomaskirche
X-ORIGINAL-URL:https://www.thomasgemeinde-gruenwald.de
X-WR-CALDESC:Veranstaltungen für Thomasgemeinde Grünwald - Thomaskirche
BEGIN:VEVENT
DTSTART;TZID=Europe/Berlin:20260515T153000
DTEND;TZID=Europe/Berlin:20260515T163000
DTSTAMP:20260421T092918
CREATED:20190521T095200Z
LAST-MODIFIED:20260225T113203Z
UID:7617-1778859000-1778862600@www.thomasgemeinde-gruenwald.de
SUMMARY:Stellprobe für die Konfirmanden in der Thomaskirche
DESCRIPTION:mit Pfarrer Christian Stalter \n
URL:https://www.thomasgemeinde-gruenwald.de/termin/stellprobe-fuer-die-konfirmanden-in-der-thomaskirche-2/
LOCATION:Thomaskirche
CATEGORIES:Gottesdienste
END:VEVENT
END:VCALENDAR