BEGIN:VCALENDAR
VERSION:2.0
PRODID:-//Thomasgemeinde Grünwald - Thomaskirche - ECPv4.6.22//NONSGML v1.0//EN
CALSCALE:GREGORIAN
METHOD:PUBLISH
X-WR-CALNAME:Thomasgemeinde Grünwald - Thomaskirche
X-ORIGINAL-URL:https://www.thomasgemeinde-gruenwald.de
X-WR-CALDESC:Veranstaltungen für Thomasgemeinde Grünwald - Thomaskirche
BEGIN:VEVENT
DTSTART;TZID=Europe/Berlin:20250525T100000
DTEND;TZID=Europe/Berlin:20250525T110000
DTSTAMP:20260421T092045
CREATED:20190521T095200Z
LAST-MODIFIED:20250227T151056Z
UID:6901-1748167200-1748170800@www.thomasgemeinde-gruenwald.de
SUMMARY:Rogate - Gottesdienst
DESCRIPTION:mit Pfarrer Christian Stalter \n
URL:https://www.thomasgemeinde-gruenwald.de/termin/rogate-gottesdienst/
LOCATION:Thomaskirche
CATEGORIES:Gottesdienste
END:VEVENT
END:VCALENDAR