BEGIN:VCALENDAR
VERSION:2.0
PRODID:-//Thomasgemeinde Grünwald - Thomaskirche - ECPv4.6.22//NONSGML v1.0//EN
CALSCALE:GREGORIAN
METHOD:PUBLISH
X-WR-CALNAME:Thomasgemeinde Grünwald - Thomaskirche
X-ORIGINAL-URL:https://www.thomasgemeinde-gruenwald.de
X-WR-CALDESC:Veranstaltungen für Thomasgemeinde Grünwald - Thomaskirche
BEGIN:VEVENT
DTSTART;TZID=Europe/Berlin:20260524T100000
DTEND;TZID=Europe/Berlin:20260524T110000
DTSTAMP:20260421T092423
CREATED:20190521T095200Z
LAST-MODIFIED:20260225T113630Z
UID:7627-1779616800-1779620400@www.thomasgemeinde-gruenwald.de
SUMMARY:Pfingstsonntag - Gottesdienst mit Abendmahl
DESCRIPTION:mit Pfarrer Christian Stalter \n  \n
URL:https://www.thomasgemeinde-gruenwald.de/termin/pfingstsonntag-gottesdienst-mit-abendmahl-2/
LOCATION:Thomaskirche
CATEGORIES:Gottesdienste
END:VEVENT
END:VCALENDAR