BEGIN:VCALENDAR
VERSION:2.0
PRODID:-//Thomasgemeinde Grünwald - Thomaskirche - ECPv4.6.22//NONSGML v1.0//EN
CALSCALE:GREGORIAN
METHOD:PUBLISH
X-WR-CALNAME:Thomasgemeinde Grünwald - Thomaskirche
X-ORIGINAL-URL:https://www.thomasgemeinde-gruenwald.de
X-WR-CALDESC:Veranstaltungen für Thomasgemeinde Grünwald - Thomaskirche
BEGIN:VEVENT
DTSTART;TZID=Europe/Berlin:20250624T150000
DTEND;TZID=Europe/Berlin:20250624T160000
DTSTAMP:20260421T191036
CREATED:20190521T095200Z
LAST-MODIFIED:20250606T084408Z
UID:7115-1750777200-1750780800@www.thomasgemeinde-gruenwald.de
SUMMARY:Ökumenischer Gottesdienst zum Johannistag
DESCRIPTION:mit Pfarrer Christian Stalter im Seniorenheim Römerschanz \n
URL:https://www.thomasgemeinde-gruenwald.de/termin/oekumenischer-gottesdienst-zum-johannistag/
LOCATION:Seniorenheim Römerschanz
CATEGORIES:Gottesdienste
END:VEVENT
END:VCALENDAR