BEGIN:VCALENDAR
VERSION:2.0
PRODID:-//Thomasgemeinde Grünwald - Thomaskirche - ECPv4.6.22//NONSGML v1.0//EN
CALSCALE:GREGORIAN
METHOD:PUBLISH
X-WR-CALNAME:Thomasgemeinde Grünwald - Thomaskirche
X-ORIGINAL-URL:https://www.thomasgemeinde-gruenwald.de
X-WR-CALDESC:Veranstaltungen für Thomasgemeinde Grünwald - Thomaskirche
BEGIN:VEVENT
DTSTART;TZID=Europe/Berlin:20260228T080000
DTEND;TZID=Europe/Berlin:20260228T083000
DTSTAMP:20260420T100655
CREATED:20250306T071636Z
LAST-MODIFIED:20260225T090210Z
UID:7559-1772265600-1772267400@www.thomasgemeinde-gruenwald.de
SUMMARY:Ökumenische Morgenandacht
DESCRIPTION:„Mit-Gefühl / ohne Härte“\, Thema: Weite – insgesamt 6 mal samstags\, Alte Pfarrkirche St. Peter und Paul mit anschließendem Frühstück im Pfarrheim St. Peter und Paul. Bitte warm anziehen!   \n
URL:https://www.thomasgemeinde-gruenwald.de/termin/oekumenische-morgenandacht/
LOCATION:Alte Pfarrkirche St. Peter und Paul
CATEGORIES:Gottesdienste
END:VEVENT
END:VCALENDAR