BEGIN:VCALENDAR
VERSION:2.0
PRODID:-//Thomasgemeinde Grünwald - Thomaskirche - ECPv4.6.22//NONSGML v1.0//EN
CALSCALE:GREGORIAN
METHOD:PUBLISH
X-WR-CALNAME:Thomasgemeinde Grünwald - Thomaskirche
X-ORIGINAL-URL:https://www.thomasgemeinde-gruenwald.de
X-WR-CALDESC:Veranstaltungen für Thomasgemeinde Grünwald - Thomaskirche
BEGIN:VEVENT
DTSTART;TZID=Europe/Berlin:20250326T100000
DTEND;TZID=Europe/Berlin:20250326T113000
DTSTAMP:20260421T142207
CREATED:20210518T153214Z
LAST-MODIFIED:20250129T095241Z
UID:6652-1742983200-1742988600@www.thomasgemeinde-gruenwald.de
SUMMARY:Ökumenische Exerzitien im Alltag 2025 - Hoffnungsstark
DESCRIPTION:Spirituell auftanken und zusammen auf Ostern zugehen \nInsgesamt fünfmal mittwochs – letzter Termin: 09.04.2025 – mit Mechtild v. Bezold\, Pastoralreferentin Ingrid Karl\, Pfr. Michael Markus und Barbara Pache-Markus im Pfarrheim St. Peter und Paul \n
URL:https://www.thomasgemeinde-gruenwald.de/termin/oekumenische-exerzitien-im-alltag-2025-hoffnungsstark-2/
LOCATION:St. Peter und Paul
CATEGORIES:Aktuelles
END:VEVENT
END:VCALENDAR