BEGIN:VCALENDAR
VERSION:2.0
PRODID:-//Thomasgemeinde Grünwald - Thomaskirche - ECPv4.6.22//NONSGML v1.0//EN
CALSCALE:GREGORIAN
METHOD:PUBLISH
X-WR-CALNAME:Thomasgemeinde Grünwald - Thomaskirche
X-ORIGINAL-URL:https://www.thomasgemeinde-gruenwald.de
X-WR-CALDESC:Veranstaltungen für Thomasgemeinde Grünwald - Thomaskirche
BEGIN:VEVENT
DTSTART;TZID=Europe/Berlin:20250526T170000
DTEND;TZID=Europe/Berlin:20250526T183000
DTSTAMP:20260421T092500
CREATED:20210518T153214Z
LAST-MODIFIED:20241209T100734Z
UID:6499-1748278800-1748284200@www.thomasgemeinde-gruenwald.de
SUMMARY:„Lemon & Soda im Gartenflügel“
DESCRIPTION:Begegnung und Gespräch in Ihrer Thomasgemeinde \nThema: 100 Jahre Bauhaus Dessau \n
URL:https://www.thomasgemeinde-gruenwald.de/termin/lemon-soda-im-gartenfluegel-5/
LOCATION:Gemeindezentrum
CATEGORIES:Aktuelles,Erwachsenenbildung
END:VEVENT
END:VCALENDAR