BEGIN:VCALENDAR
VERSION:2.0
PRODID:-//Thomasgemeinde Grünwald - Thomaskirche - ECPv4.6.22//NONSGML v1.0//EN
CALSCALE:GREGORIAN
METHOD:PUBLISH
X-WR-CALNAME:Thomasgemeinde Grünwald - Thomaskirche
X-ORIGINAL-URL:https://www.thomasgemeinde-gruenwald.de
X-WR-CALDESC:Veranstaltungen für Thomasgemeinde Grünwald - Thomaskirche
BEGIN:VEVENT
DTSTART;TZID=Europe/Berlin:20250316T110000
DTEND;TZID=Europe/Berlin:20250316T120000
DTSTAMP:20260423T103546
CREATED:20190521T095200Z
LAST-MODIFIED:20250227T152901Z
UID:6865-1742122800-1742126400@www.thomasgemeinde-gruenwald.de
SUMMARY:Kindergottesdienst
DESCRIPTION:mit Pfarrer Christian Stalter \n
URL:https://www.thomasgemeinde-gruenwald.de/termin/kindergottesdienst/
LOCATION:Thomaskirche
CATEGORIES:Gottesdienste,Kindergottesdienste
END:VEVENT
END:VCALENDAR