BEGIN:VCALENDAR
VERSION:2.0
PRODID:-//Thomasgemeinde Grünwald - Thomaskirche - ECPv4.6.22//NONSGML v1.0//EN
CALSCALE:GREGORIAN
METHOD:PUBLISH
X-WR-CALNAME:Thomasgemeinde Grünwald - Thomaskirche
X-ORIGINAL-URL:https://www.thomasgemeinde-gruenwald.de
X-WR-CALDESC:Veranstaltungen für Thomasgemeinde Grünwald - Thomaskirche
BEGIN:VEVENT
DTSTART;TZID=Europe/Berlin:20250518T100000
DTEND;TZID=Europe/Berlin:20250518T110000
DTSTAMP:20260421T092045
CREATED:20190521T095200Z
LAST-MODIFIED:20250227T150957Z
UID:6899-1747562400-1747566000@www.thomasgemeinde-gruenwald.de
SUMMARY:Kantate - Gottesdienst
DESCRIPTION:mit Pfarrer Dr. Lothar Malkwitz \n
URL:https://www.thomasgemeinde-gruenwald.de/termin/kantate-gottesdienst/
LOCATION:Thomaskirche
CATEGORIES:Gottesdienste
END:VEVENT
END:VCALENDAR