BEGIN:VCALENDAR
VERSION:2.0
PRODID:-//Thomasgemeinde Grünwald - Thomaskirche - ECPv4.6.22//NONSGML v1.0//EN
CALSCALE:GREGORIAN
METHOD:PUBLISH
X-WR-CALNAME:Thomasgemeinde Grünwald - Thomaskirche
X-ORIGINAL-URL:https://www.thomasgemeinde-gruenwald.de
X-WR-CALDESC:Veranstaltungen für Thomasgemeinde Grünwald - Thomaskirche
BEGIN:VEVENT
DTSTART;TZID=Europe/Berlin:20250511T100000
DTEND;TZID=Europe/Berlin:20250511T110000
DTSTAMP:20260421T092125
CREATED:20190521T095200Z
LAST-MODIFIED:20250227T150906Z
UID:6897-1746957600-1746961200@www.thomasgemeinde-gruenwald.de
SUMMARY:Jubilate - Gottesdienst
DESCRIPTION:mit Prädikant Stefan Eishold \n
URL:https://www.thomasgemeinde-gruenwald.de/termin/jubilate-gottesdienst/
LOCATION:Thomaskirche
CATEGORIES:Gottesdienste
END:VEVENT
END:VCALENDAR