BEGIN:VCALENDAR
VERSION:2.0
PRODID:-//Thomasgemeinde Grünwald - Thomaskirche - ECPv4.6.22//NONSGML v1.0//EN
CALSCALE:GREGORIAN
METHOD:PUBLISH
X-WR-CALNAME:Thomasgemeinde Grünwald - Thomaskirche
X-ORIGINAL-URL:https://www.thomasgemeinde-gruenwald.de
X-WR-CALDESC:Veranstaltungen für Thomasgemeinde Grünwald - Thomaskirche
BEGIN:VEVENT
DTSTART;TZID=Europe/Berlin:20241224T153000
DTEND;TZID=Europe/Berlin:20241224T153000
DTSTAMP:20260421T172838
CREATED:20190521T095200Z
LAST-MODIFIED:20240930T083356Z
UID:6230-1735054200-1735054200@www.thomasgemeinde-gruenwald.de
SUMMARY:Heiligabend - Familiengottesdienst mit Krippenspiel 2
DESCRIPTION:mit Pfarrer Christian Stalter \n
URL:https://www.thomasgemeinde-gruenwald.de/termin/heiligabend-familiengottesdienst-mit-krippenspiel-2-3/
LOCATION:Thomaskirche
CATEGORIES:Familien und Kinder,Familiengottesdienste,Gottesdienste
END:VEVENT
END:VCALENDAR