BEGIN:VCALENDAR
VERSION:2.0
PRODID:-//Thomasgemeinde Grünwald - Thomaskirche - ECPv4.6.22//NONSGML v1.0//EN
CALSCALE:GREGORIAN
METHOD:PUBLISH
X-WR-CALNAME:Thomasgemeinde Grünwald - Thomaskirche
X-ORIGINAL-URL:https://www.thomasgemeinde-gruenwald.de
X-WR-CALDESC:Veranstaltungen für Thomasgemeinde Grünwald - Thomaskirche
BEGIN:VEVENT
DTSTART;TZID=Europe/Berlin:20250316T100000
DTEND;TZID=Europe/Berlin:20250316T110000
DTSTAMP:20260421T124020
CREATED:20190521T095200Z
LAST-MODIFIED:20241121T113403Z
UID:6353-1742119200-1742122800@www.thomasgemeinde-gruenwald.de
SUMMARY:Gottesdienst - Predigtreihe: Tiere in der Bibel
DESCRIPTION:„Warum sorgt ihr euch um euer Essen? Seht die Vögel unter dem Himmel an; sie säen nicht\, sie erinnern nicht\, und euer himmlischer Vater ernährt sie doch.“ (nach Mt 6\,26) \nmit Pfarrer Christian Stalter \n
URL:https://www.thomasgemeinde-gruenwald.de/termin/gottesdienst-predigtreihe-tiere-in-der-bibel/
LOCATION:Thomaskirche
CATEGORIES:Gottesdienste
END:VEVENT
END:VCALENDAR