BEGIN:VCALENDAR
VERSION:2.0
PRODID:-//Thomasgemeinde Grünwald - Thomaskirche - ECPv4.6.22//NONSGML v1.0//EN
CALSCALE:GREGORIAN
METHOD:PUBLISH
X-WR-CALNAME:Thomasgemeinde Grünwald - Thomaskirche
X-ORIGINAL-URL:https://www.thomasgemeinde-gruenwald.de
X-WR-CALDESC:Veranstaltungen für Thomasgemeinde Grünwald - Thomaskirche
BEGIN:VEVENT
DTSTART;TZID=Europe/Berlin:20250408T193000
DTEND;TZID=Europe/Berlin:20250408T193000
DTSTAMP:20260421T105747
CREATED:20190731T084048Z
LAST-MODIFIED:20250314T111625Z
UID:6962-1744140600-1744140600@www.thomasgemeinde-gruenwald.de
SUMMARY:Freundeskreis der evangelischen Akademie Tutzing
DESCRIPTION:Vortrag mit Frau Sarah Marie Sander\, Theater- und Fernsehschauspielerin.\nThema: Israel und der Antisemitismus in Deutschland \n
URL:https://www.thomasgemeinde-gruenwald.de/termin/freundeskreis-der-evangelischen-akademie-tutzing-3/
LOCATION:ev. Gemeindezentrum
CATEGORIES:Aktuelles,Erwachsenenbildung,Freundeskreis der Evangelischen Akademie Tutzing
END:VEVENT
END:VCALENDAR