BEGIN:VCALENDAR
VERSION:2.0
PRODID:-//Thomasgemeinde Grünwald - Thomaskirche - ECPv4.6.22//NONSGML v1.0//EN
CALSCALE:GREGORIAN
METHOD:PUBLISH
X-WR-CALNAME:Thomasgemeinde Grünwald - Thomaskirche
X-ORIGINAL-URL:https://www.thomasgemeinde-gruenwald.de
X-WR-CALDESC:Veranstaltungen für Thomasgemeinde Grünwald - Thomaskirche
BEGIN:VEVENT
DTSTART;TZID=Europe/Berlin:20250327T173000
DTEND;TZID=Europe/Berlin:20250327T183000
DTSTAMP:20260421T123850
CREATED:20210518T153214Z
LAST-MODIFIED:20250122T101049Z
UID:6512-1743096600-1743100200@www.thomasgemeinde-gruenwald.de
SUMMARY:Literatur-Café für die Seele
DESCRIPTION:Literarischer Gesprächskreis mit Conny Zieber und Pfarrer Christian Stalter \n
URL:https://www.thomasgemeinde-gruenwald.de/termin/cafe-fuer-die-seele-4/
LOCATION:Gemeindezentrum
CATEGORIES:Aktuelles,Erwachsenenbildung
END:VEVENT
END:VCALENDAR