BEGIN:VCALENDAR
VERSION:2.0
PRODID:-//Thomasgemeinde Grünwald - Thomaskirche - ECPv4.6.22//NONSGML v1.0//EN
CALSCALE:GREGORIAN
METHOD:PUBLISH
X-WR-CALNAME:Thomasgemeinde Grünwald - Thomaskirche
X-ORIGINAL-URL:https://www.thomasgemeinde-gruenwald.de
X-WR-CALDESC:Veranstaltungen für Thomasgemeinde Grünwald - Thomaskirche
BEGIN:VEVENT
DTSTART;TZID=Europe/Berlin:20250623T153000
DTEND;TZID=Europe/Berlin:20250623T170000
DTSTAMP:20260421T193505
CREATED:20210518T153214Z
LAST-MODIFIED:20250606T084220Z
UID:7016-1750692600-1750698000@www.thomasgemeinde-gruenwald.de
SUMMARY:Bibelgesprächskreis
DESCRIPTION:Gesprächskreis über biblische Themen\nLk 6\,36-42: Gottes Barmherzigkeit \n
URL:https://www.thomasgemeinde-gruenwald.de/termin/bibelgespraechskreis-5/
LOCATION:Gemeindezentrum
CATEGORIES:Aktuelles
END:VEVENT
END:VCALENDAR