BEGIN:VCALENDAR
VERSION:2.0
PRODID:-//Thomasgemeinde Grünwald - Thomaskirche - ECPv4.6.22//NONSGML v1.0//EN
CALSCALE:GREGORIAN
METHOD:PUBLISH
X-WR-CALNAME:Thomasgemeinde Grünwald - Thomaskirche
X-ORIGINAL-URL:https://www.thomasgemeinde-gruenwald.de
X-WR-CALDESC:Veranstaltungen für Thomasgemeinde Grünwald - Thomaskirche
BEGIN:VEVENT
DTSTART;TZID=Europe/Berlin:20250713T100000
DTEND;TZID=Europe/Berlin:20250713T110000
DTSTAMP:20260421T121853
CREATED:20190521T095200Z
LAST-MODIFIED:20250411T091119Z
UID:6925-1752400800-1752404400@www.thomasgemeinde-gruenwald.de
SUMMARY:4. Sonntag nach Trinitatis - Gottesdienst
DESCRIPTION:mit Pfarrer Christian Stalter \n
URL:https://www.thomasgemeinde-gruenwald.de/termin/4-sonntag-nach-trinitatis-gottesdienst/
LOCATION:Thomaskirche
CATEGORIES:Gottesdienste
END:VEVENT
END:VCALENDAR