BEGIN:VCALENDAR
VERSION:2.0
PRODID:-//Thomasgemeinde Grünwald - Thomaskirche - ECPv4.6.22//NONSGML v1.0//EN
CALSCALE:GREGORIAN
METHOD:PUBLISH
X-WR-CALNAME:Thomasgemeinde Grünwald - Thomaskirche
X-ORIGINAL-URL:https://www.thomasgemeinde-gruenwald.de
X-WR-CALDESC:Veranstaltungen für Thomasgemeinde Grünwald - Thomaskirche
BEGIN:VEVENT
DTSTART;TZID=Europe/Berlin:20260621T111500
DTEND;TZID=Europe/Berlin:20260621T121500
DTSTAMP:20260421T105730
CREATED:20190521T095200Z
LAST-MODIFIED:20260227T114938Z
UID:7687-1782040500-1782044100@www.thomasgemeinde-gruenwald.de
SUMMARY:3. Sonntag nach Trinitatis - Waldgottesdienst im Walderlebniszentrum
DESCRIPTION:mit Pfarrer Christian Stalter \n
URL:https://www.thomasgemeinde-gruenwald.de/termin/3-sonntag-nach-trinitatis-waldgottesdienst-im-walderlebniszentrum/
LOCATION:Walderlebniszentrum
CATEGORIES:Besondere Gottesdienste,Familien und Kinder,Gottesdienste
END:VEVENT
END:VCALENDAR