BEGIN:VCALENDAR
VERSION:2.0
PRODID:-//Thomasgemeinde Grünwald - Thomaskirche - ECPv4.6.22//NONSGML v1.0//EN
CALSCALE:GREGORIAN
METHOD:PUBLISH
X-WR-CALNAME:Thomasgemeinde Grünwald - Thomaskirche
X-ORIGINAL-URL:https://www.thomasgemeinde-gruenwald.de
X-WR-CALDESC:Veranstaltungen für Thomasgemeinde Grünwald - Thomaskirche
BEGIN:VEVENT
DTSTART;TZID=Europe/Berlin:20250706T110000
DTEND;TZID=Europe/Berlin:20250706T120000
DTSTAMP:20260421T135836
CREATED:20190521T095200Z
LAST-MODIFIED:20250227T152345Z
UID:6923-1751799600-1751803200@www.thomasgemeinde-gruenwald.de
SUMMARY:3. Sonntag nach Trinitatis - Ökumenisches Kirchenfest in der Hubertusstraße
DESCRIPTION:mit Pfarrer Christian Stalter und Team \n  \n
URL:https://www.thomasgemeinde-gruenwald.de/termin/3-sonntag-nach-trinitatis-oekumenisches-kirchenfest-in-der-hubertusstrasse/
LOCATION:Festwiese auf der Hubertuswiese
CATEGORIES:Gottesdienste
END:VEVENT
END:VCALENDAR