BEGIN:VCALENDAR
VERSION:2.0
PRODID:-//Thomasgemeinde Grünwald - Thomaskirche - ECPv4.6.22//NONSGML v1.0//EN
CALSCALE:GREGORIAN
METHOD:PUBLISH
X-WR-CALNAME:Thomasgemeinde Grünwald - Thomaskirche
X-ORIGINAL-URL:https://www.thomasgemeinde-gruenwald.de
X-WR-CALDESC:Veranstaltungen für Thomasgemeinde Grünwald - Thomaskirche
BEGIN:VEVENT
DTSTART;TZID=Europe/Berlin:20241215T170000
DTEND;TZID=Europe/Berlin:20241215T180000
DTSTAMP:20260421T194328
CREATED:20190521T095200Z
LAST-MODIFIED:20240930T082807Z
UID:6225-1734282000-1734285600@www.thomasgemeinde-gruenwald.de
SUMMARY:3. Advent - Waldweihnacht in Wörnbrunn
DESCRIPTION:mit Pfarrer Christian Stalter \n
URL:https://www.thomasgemeinde-gruenwald.de/termin/3-advent-waldweihnacht-in-woernbrunn-2/
LOCATION:Wörnbrunn
CATEGORIES:Besondere Gottesdienste,Gottesdienste
END:VEVENT
END:VCALENDAR