BEGIN:VCALENDAR
VERSION:2.0
PRODID:-//Thomasgemeinde Grünwald - Thomaskirche - ECPv4.6.22//NONSGML v1.0//EN
CALSCALE:GREGORIAN
METHOD:PUBLISH
X-WR-CALNAME:Thomasgemeinde Grünwald - Thomaskirche
X-ORIGINAL-URL:https://www.thomasgemeinde-gruenwald.de
X-WR-CALDESC:Veranstaltungen für Thomasgemeinde Grünwald - Thomaskirche
BEGIN:VEVENT
DTSTART;TZID=Europe/Berlin:20241215T110000
DTEND;TZID=Europe/Berlin:20241215T120000
DTSTAMP:20260421T213209
CREATED:20190521T095200Z
LAST-MODIFIED:20240930T082150Z
UID:6223-1734260400-1734264000@www.thomasgemeinde-gruenwald.de
SUMMARY:3. Advent - Kindergottesdienst
DESCRIPTION:mit Pfarrer Christian Stalter \n
URL:https://www.thomasgemeinde-gruenwald.de/termin/3-advent-kindergottesdienst-2/
LOCATION:Thomaskirche
CATEGORIES:Gottesdienste,Kindergottesdienste
END:VEVENT
END:VCALENDAR