BEGIN:VCALENDAR
VERSION:2.0
PRODID:-//Thomasgemeinde Grünwald - Thomaskirche - ECPv4.6.22//NONSGML v1.0//EN
CALSCALE:GREGORIAN
METHOD:PUBLISH
X-WR-CALNAME:Thomasgemeinde Grünwald - Thomaskirche
X-ORIGINAL-URL:https://www.thomasgemeinde-gruenwald.de
X-WR-CALDESC:Veranstaltungen für Thomasgemeinde Grünwald - Thomaskirche
BEGIN:VEVENT
DTSTART;TZID=Europe/Berlin:20250629T100000
DTEND;TZID=Europe/Berlin:20250629T110000
DTSTAMP:20260421T155350
CREATED:20190521T095200Z
LAST-MODIFIED:20250227T152148Z
UID:6921-1751191200-1751194800@www.thomasgemeinde-gruenwald.de
SUMMARY:2. Sonntag nach Trinitatis - Gottesdienst
DESCRIPTION:mit Prädikant Stefan Eishold \n  \n
URL:https://www.thomasgemeinde-gruenwald.de/termin/2-sonntag-nach-trinitatis-gottesdienst/
LOCATION:Thomaskirche
CATEGORIES:Gottesdienste
END:VEVENT
END:VCALENDAR