BEGIN:VCALENDAR
VERSION:2.0
PRODID:-//Thomasgemeinde Grünwald - Thomaskirche - ECPv4.6.22//NONSGML v1.0//EN
CALSCALE:GREGORIAN
METHOD:PUBLISH
X-WR-CALNAME:Thomasgemeinde Grünwald - Thomaskirche
X-ORIGINAL-URL:https://www.thomasgemeinde-gruenwald.de
X-WR-CALDESC:Veranstaltungen für Thomasgemeinde Grünwald - Thomaskirche
BEGIN:VEVENT
DTSTART;TZID=Europe/Berlin:20250914T170000
DTEND;TZID=Europe/Berlin:20250914T180000
DTSTAMP:20260421T092537
CREATED:20190521T095200Z
LAST-MODIFIED:20250606T085646Z
UID:7126-1757869200-1757872800@www.thomasgemeinde-gruenwald.de
SUMMARY:13. Sonntag nach Trinitatis - Familiengottesdienst
DESCRIPTION:zur Einsegnung der Erstklässler mit Pfarrer Christian Stalter \n
URL:https://www.thomasgemeinde-gruenwald.de/termin/13-sonntag-nach-trinitatis-familiengottesdienst/
LOCATION:Thomaskirche
CATEGORIES:Familiengottesdienste,Gottesdienste
END:VEVENT
END:VCALENDAR