BEGIN:VCALENDAR
VERSION:2.0
PRODID:-//Thomasgemeinde Grünwald - Thomaskirche - ECPv4.6.22//NONSGML v1.0//EN
CALSCALE:GREGORIAN
METHOD:PUBLISH
X-WR-CALNAME:Thomasgemeinde Grünwald - Thomaskirche
X-ORIGINAL-URL:https://www.thomasgemeinde-gruenwald.de
X-WR-CALDESC:Veranstaltungen für Thomasgemeinde Grünwald - Thomaskirche
BEGIN:VEVENT
DTSTART;TZID=Europe/Berlin:20250622T111500
DTEND;TZID=Europe/Berlin:20250622T121500
DTSTAMP:20260421T180026
CREATED:20190521T095200Z
LAST-MODIFIED:20250227T152221Z
UID:6919-1750590900-1750594500@www.thomasgemeinde-gruenwald.de
SUMMARY:1. Sonntag nach Trinitatis - Waldgottesdienst im Walderlebniszentrum
DESCRIPTION:mit Pfarrer Christian Stalter \n  \n
URL:https://www.thomasgemeinde-gruenwald.de/termin/1-sonntag-nach-trinitatis-waldgottesdienst-im-walderlebniszentrum/
LOCATION:Walderlebniszentrum
CATEGORIES:Gottesdienste
END:VEVENT
END:VCALENDAR