BEGIN:VCALENDAR
VERSION:2.0
PRODID:-//Thomasgemeinde Grünwald - Thomaskirche - ECPv4.6.22//NONSGML v1.0//EN
CALSCALE:GREGORIAN
METHOD:PUBLISH
X-WR-CALNAME:Thomasgemeinde Grünwald - Thomaskirche
X-ORIGINAL-URL:https://www.thomasgemeinde-gruenwald.de
X-WR-CALDESC:Veranstaltungen für Thomasgemeinde Grünwald - Thomaskirche
BEGIN:VEVENT
DTSTART;TZID=Europe/Berlin:20250622T100000
DTEND;TZID=Europe/Berlin:20250622T110000
DTSTAMP:20260421T160720
CREATED:20190521T095200Z
LAST-MODIFIED:20250227T152003Z
UID:6917-1750586400-1750590000@www.thomasgemeinde-gruenwald.de
SUMMARY:1. Sonntag nach Trinitatis - Gottesdienst
DESCRIPTION:mit Pfarrer Christian Stalter \n  \n
URL:https://www.thomasgemeinde-gruenwald.de/termin/1-sonntag-nach-trinitatis-gottesdienst/
LOCATION:Thomaskirche
CATEGORIES:Gottesdienste
END:VEVENT
END:VCALENDAR